Workbook

Sheet Data
A2: Tarea 3.2
A4: Instructions: 1. Evaluate the financial statements of Procter & Gamble Co. You should use the most recent Annual Report. http://www.pginvestor.com/. 2. Use the financial information of these consolidated statements of Earnings and consolidated Balance sheet, pp. 36-39, and prepares the company's financial plan for the year 2018. 3. Remember that the figures in the financial statements appear in millions of dollars. 4. Consider the following information: a. Net sales for the 2018 is estimated to increase by 8% b. It is projected to pay $2.75 in common share dividends. c. The company wants to maintain a minimum cash balance of $6 million. d. Accounts receivable will account for 15% of net sales projected at 2018. e. The final inventory at 2018 will be increased by 2% compared to 2017. f. Property, plant and equipment will increase by 8%. g. Account payables are increased by 10%. h. The taxes payable will be calculated to a quarter of the tax debt in the pro-forma statement in the income and expense form. i. All other accounts remain without major changes 5. Prepare a pro-forma income and expense statement for the year ending 2018 using the sales percent method. (10 points) 6. Prepare a pro-forma situation statement as of December 31, 2018 using the administrative assumption method (judgmental approach). (10 points) 7. Analyzes the use of pro-forma statement. Why are they made? What's the function? (5 points) 8. Explains what the required external financing consists of. What does it mean to have an amount of external financing required in negative? (5 puntos) 9. With these established projections, determine the following financial indicators: Current Ratio, Inventory Turnover, Profit Margin, return on Assets and return on Equity. (10 points).

Sheet INCOME STATEMENT
A1: The Procter & Gamble Company
A2: Pro-Forma INCOME STATEMENT
A3: Amounts in millions except per share amounts; Years ended DEC 31 | B3: 2018 | C3: 2017 | D3: 2016 | E3: 2015
A4: NET SALES | B4: =C4*(1+I8) -> 70262.64 | C4: $ 65,058 | D4: $ 65,299 | E4: $ 70,749
A5: Cost of products sold | B5: =C5/$C$4*$B$4 -> 35137.8 | C5: 32,535 | D5: 32,909 | E5: 37,056
A6: Selling, general and administrative expense | B6: =C6/$C$4*$B$4 -> 20053.44 | C6: 18,568 | D6: 18,949 | E6: 20,616
A7: Venezuela deconsolidation charge | B7: — | C7: — | D7: — | E7: 2,028
A8: OPERATING INCOME | B8: =B4-SUM(B5:B6) -> 15071.4 | C8: 13,955 | D8: 13,441 | E8: 11,049 | H8: 2018 projected sales growth | I8: 0.08
A9: Interest expense | B9: =C9/$C$4*$B$4 -> 502.2 | C9: 465 | D9: 579 | E9: 626 | H9: Common Share Dividend per share | I9: 2.75
A10: Interest income | B10: =C10/$C$4*$B$4 -> 184.68 | C10: 171 | D10: 182 | E10: 149 | H10: 2018 Sales forecast uses sales percentage of 2017
A11: Other non-operating income/(expense), net | B11: =C11/$C$4*$B$4 -> -436.32 | C11: (404) | D11: 325 | E11: 440
A12: EARNINGS FROM CONTINUING OPERATIONS BEFORE INCOME TAXES | B12: =B8+B10-B9+B11 -> 14317.56 | C12: 13,257 | D12: 13,369 | E12: 11,012
A13: Income taxes on continuing operations | B13: =C13/C4*B4 -> 3308.04 | C13: 3,063 | D13: 3,342 | E13: 2,725
A14: NET EARNINGS FROM CONTINUING OPERATIONS | B14: =B12-B13 -> 11009.52 | C14: 10,194 | D14: 10,027 | E14: 8,287
A15: NET EARNINGS/(LOSS) FROM DISCONTINUED OPERATIONS | B15: =C15/C4*B4 -> 5634.36 | C15: 5,217 | D15: 577 | E15: (1,143)
A16: NET EARNINGS | B16: =B14+B15 -> 16643.88 | C16: 15,411 | D16: 10,604 | E16: 7,144
A17: Less: Net earnings attributable to noncontrolling interests | B17: =C17/C4*B4 -> 91.8 | C17: 85 | D17: 96 | E17: 108
A18: NET EARNINGS ATTRIBUTABLE TO PROCTER & GAMBLE | B18: =B16-B17 -> 16552.08 | C18: $ 15,326 | D18: $ 10,508 | E18: $ 7,036
A19: BASIC NET EARNINGS PER COMMON SHARE: (1)
A20: Earnings from continuing operations | B20: =C20/$C$4*$B$4 -> 4.0932 | C20: $ 3.79 | D20: $ 3.59 | E20: $ 2.92
A21: Earnings/(loss) from discontinued operations | B21: =C21/$C$4*$B$4 -> 2.1708 | C21: 2.01 | D21: 0.21 | E21: (0.42)
A22: BASIC NET EARNINGS PER COMMON SHARE | B22: =SUM(B20:B21) -> 6.264 | C22: $ 5.80 | D22: $ 3.80 | E22: $ 2.50
A23: DILUTED NET EARNINGS PER COMMON SHARE: (1)
A24: Earnings from continuing operations | B24: =C24/C4*B4 -> 3.9852 | C24: $ 3.69 | D24: $ 3.49 | E24: $ 2.84
A25: Earnings/(loss) from discontinued operations | B25: =C25/C4*B4 -> 2.052 | C25: 1.9 | D25: 0.2 | E25: (0.40)
A26: DILUTED NET EARNINGS PER COMMON SHARE | B26: =SUM(B24:B25) -> 6.0372 | C26: $ 5.59 | D26: $ 3.69 | E26: $ 2.44
A27: DIVIDENDS PER COMMON SHARE | B27: =I9 -> 2.75 | C27: $ 2.70 | D27: $ 2.66 | E27: $ 2.59
A30: (1) Basic net earnings per common share and Diluted net earnings per common share are calculated on Net earnings attributable to Procter & Gamble.
A31: See accompanying Notes to Consolidated Financial Statements.

Sheet BALANCE SHEET
A1: The Procter & Gamble Company
A2: Pro Forma- Balance Sheets
A3: Amounts in millions; As of DEC 31 | B3: 2018 | C3: 2017 | D3: 2016
A4: Assets | G4: Total Inventory Increase | H4: 0.02
A5: CURRENT ASSETS | G5: Property, Plant and Equipment Increase | H5: 0.08
A6: Cash and cash equivalents | B6: =C6*(1+0.02) -> 5680.38 | C6: $ 5,569 | D6: $ 7,102 | G6: Accounts Payables Increase | H6: 0.1
A7: Available-for-sale investment securities | B7: =C7*(1+0.02) -> 9759.36 | C7: 9,568 | D7: 6,246 | G7: Taxes Payables as a percent of tax expenses | H7: 0.25
A8: Accounts receivable | B8: =C8*(1+0.02) -> 4685.88 | C8: 4,594 | D8: 4,373
A9: INVENTORIES | G9: Administrative Assumption Method
A10: Materials and supplies | B10: =C10*(1+$H$4) -> 1334.16 | C10: 1,308 | D10: 1,188 | G10: All other items increase by two percent except for long-term debt and other non-current liabilities that decline by 2%
A11: Work in process | B11: =C11*(1+H4) -> 539.58 | C11: 529 | D11: 563 | G11: Common Stock remains constant
A12: Finished goods | B12: =C12*(1+H4) -> 2842.74 | C12: 2,787 | D12: 2,965 | G12: Additional Paid in Capital rises by 17.78%
A13: Total inventories | B13: =SUM(B10:B12) -> 4716.48 | C13: 4,624 | D13: 4,716
A14: Deferred income taxes | C14: — | D14: 1,507
A15: Prepaid expenses and other current assets | B15: =C15*(1+0.02) -> 2181.78 | C15: 2,139 | D15: 2,653
A16: Current assets held for sale | C16: — | D16: 7,185
A17: TOTAL CURRENT ASSETS | B17: =SUM(B6:B8)+B13+B15 -> 27023.88 | C17: 26,494 | D17: 33,782
A18: PROPERTY, PLANT AND EQUIPMENT, NET | B18: =C18*(1+H5) -> 21484.44 | C18: 19,893 | D18: 19,385
A19: GOODWILL | B19: =C19*(1+0.02) -> 45592.98 | C19: 44,699 | D19: 44,350
A20: TRADEMARKS AND OTHER INTANGIBLE ASSETS, NET | B20: =C20*(1+0.02) -> 24670.74 | C20: 24,187 | D20: 24,527
A21: OTHER NONCURRENT ASSETS | B21: =C21*(1+0.02) -> 5235.66 | C21: 5,133 | D21: 5,092
A22: TOTAL ASSETS | B22: =B17+SUM(B18:B21) -> 124007.7 | C22: $ 120,406 | D22: $ 127,136
A23: Liabilities and Shareholders' Equity
A24: CURRENT LIABILITIES
A25: Accounts payable | B25: =C25*(1+H6) -> 10595.2 | C25: $ 9,632 | D25: $ 9,325
A26: Accrued and other liabilities | B26: =C26*(1+0.02) -> 7164.48 | C26: 7,024 | D26: 7,449
A27: Current liabilities held for sale | C27: — | D27: 2,343
A28: Debt due within one year | B28: =C28*(1+0.02) -> 13825.08 | C28: 13,554 | D28: 11,653
A29: TOTAL CURRENT LIABILITIES | B29: =SUM(B25:B28) -> 31584.76 | C29: 30,210 | D29: 30,770
A30: LONG-TERM DEBT | B30: =C30*(1-0.02) -> 17677.24 | C30: 18,038 | D30: 18,945
A31: DEFERRED INCOME TAXES | B31: =H7*'INCOME STATEMENT'!B13 -> 827.01 | C31: 8,126 | D31: 9,113
A32: OTHER NONCURRENT LIABILITIES | B32: =C32*(1-0.02) -> 8088.92 | C32: 8,254 | D32: 10,325
A33: TOTAL LIABILITIES | B33: =B29+SUM(B30:B32) -> 58177.93 | C33: 64,628 | D33: 69,153
A34: SHAREHOLDERS' EQUITY
A35: Convertible Class A preferred stock, stated value $1 per share (600 shares authorized) | C35: 1,006 | D35: 1,038
A36: Non-Voting Class B preferred stock, stated value $1 per share (200 shares authorized) | C36: — | D36: —
A37: Common stock, stated value $1 per share (10,000 shares authorized; shares issued:
A38: 2017 - 4,009.2, 2016 - 4,009.2 ) | B38: 4009 | C38: 4,009 | D38: 4,009
A39: Additional paid-in capital | B39: =B46-B33-SUM(B38,B40:B44) -> 74956.33 | C39: 63,641 | D39: 63,714
A40: Reserve for ESOP debt retirement | B40: =C40*(1+0.02) -> -1273.98 | C40: (1,249) | D40: (1,290)
...

Sheet RATIOS
A1: In this space answer the questions
A3: Pro-forma statements are finacial statements presented in a certain standard format. These statements are used in planning and control, for decision making, for forecasting, and for reporting to owners, investors, and creditors. The statements can be used to make comparisons between two different periods, and between the business and other industry players. The information is important for managers, investors, lenders, and government entities. Pro-forma statements halps an organization to seek financing from external lenders by providing information about the financial health of an organization. Government organizations such as the U.S. Securities and Exchange Commission provide a pre-specified format for company's pro-forma statements. Required external financing is the amount the amount of additional capital that a company needs to run its business. This amount is used to acquire assets and generate revenues for the company. When the required external financing is positive, the company does not need to borrow from external sources. However, when the required external financing is negative, the company needs funds from external financiers. Some of the factors that affect the required external financing are a company's cashflows and the dividend pay-out ratio.
A18: To Obtain Ratios use 2018 amounts
A19: RATIOS | C19: Procedure | H19: Results
A20: Current Ratio | C20: =Current Assets/Current Liabilities | H20: ='BALANCE SHEET'!B17/'BALANCE SHEET'!B29 -> 0.85559871
A21: Inventory Turnover | C21: =Cost of Goods/Average Inventory | H21: ='INCOME STATEMENT'!B5/(('BALANCE SHEET'!B13+'BALANCE SHEET'!C13)/2) -> 7.5237675
A22: Profit Margin | C22: =Net Profit/Revenues | H22: ='INCOME STATEMENT'!B16/'INCOME STATEMENT'!B4 -> 0.23688094
A23: Return on Assets | C23: =Net Profit/Total Assets | H23: ='INCOME STATEMENT'!B16/'BALANCE SHEET'!B22 -> 0.1342165
A24: Return on Equity | C24: =Net Profit/Total Shareholder's Equity | H24: ='INCOME STATEMENT'!B16/'BALANCE SHEET'!B45 -> 0.25283212
